BEGIN:VCALENDAR
VERSION:2.0
PRODID:-//TTS Energy Services - ECPv6.15.20//NONSGML v1.0//EN
CALSCALE:GREGORIAN
METHOD:PUBLISH
X-WR-CALNAME:TTS Energy Services
X-ORIGINAL-URL:https://ttsenergyservices.com
X-WR-CALDESC:Events for TTS Energy Services
REFRESH-INTERVAL;VALUE=DURATION:PT1H
X-Robots-Tag:noindex
X-PUBLISHED-TTL:PT1H
BEGIN:VTIMEZONE
TZID:America/Halifax
BEGIN:DAYLIGHT
TZOFFSETFROM:-0400
TZOFFSETTO:-0300
TZNAME:ADT
DTSTART:20220313T060000
END:DAYLIGHT
BEGIN:STANDARD
TZOFFSETFROM:-0300
TZOFFSETTO:-0400
TZNAME:AST
DTSTART:20221106T050000
END:STANDARD
BEGIN:DAYLIGHT
TZOFFSETFROM:-0400
TZOFFSETTO:-0300
TZNAME:ADT
DTSTART:20230312T060000
END:DAYLIGHT
BEGIN:STANDARD
TZOFFSETFROM:-0300
TZOFFSETTO:-0400
TZNAME:AST
DTSTART:20231105T050000
END:STANDARD
BEGIN:DAYLIGHT
TZOFFSETFROM:-0400
TZOFFSETTO:-0300
TZNAME:ADT
DTSTART:20240310T060000
END:DAYLIGHT
BEGIN:STANDARD
TZOFFSETFROM:-0300
TZOFFSETTO:-0400
TZNAME:AST
DTSTART:20241103T050000
END:STANDARD
END:VTIMEZONE
BEGIN:VEVENT
DTSTART;VALUE=DATE:20230502
DTEND;VALUE=DATE:20230505
DTSTAMP:20260420T233956
CREATED:20230131T223743Z
LAST-MODIFIED:20240712T211216Z
UID:6982-1682985600-1683244799@ttsenergyservices.com
SUMMARY:EGCR - Eastern Gas Compression Roundtable
DESCRIPTION:The Eastern Gas Compression Roundtable (EGCR) is a platform for companies in the Natural Gas Industry to share latest industry trends\, technological developments and best practices. The event is targeted at industry groups closely involved with Compressor Stations\, Marcellus Shale\, Utica Shale\, Antrim and other associated areas. \nOur goal is to meet the needs of industry groups closely involved with Compressor Stations\, Marcellus Shale\, Utica Shale\, Antrim and other associated areas. The conference is promoted by those directly involved in the oil and gas industry and is open to anyone involved in the industry.
URL:https://ttsenergyservices.com/event/egcr-eastern-gas-compression-roundtable/
LOCATION:Pittsburgh\, KS\, United States
CATEGORIES:TTS Midstream Event
END:VEVENT
END:VCALENDAR