BEGIN:VCALENDAR
VERSION:2.0
PRODID:-//TTS Energy Services - ECPv6.15.20//NONSGML v1.0//EN
CALSCALE:GREGORIAN
METHOD:PUBLISH
X-ORIGINAL-URL:https://ttsenergyservices.com
X-WR-CALDESC:Events for TTS Energy Services
REFRESH-INTERVAL;VALUE=DURATION:PT1H
X-Robots-Tag:noindex
X-PUBLISHED-TTL:PT1H
BEGIN:VTIMEZONE
TZID:America/Halifax
BEGIN:DAYLIGHT
TZOFFSETFROM:-0400
TZOFFSETTO:-0300
TZNAME:ADT
DTSTART:20210314T060000
END:DAYLIGHT
BEGIN:STANDARD
TZOFFSETFROM:-0300
TZOFFSETTO:-0400
TZNAME:AST
DTSTART:20211107T050000
END:STANDARD
BEGIN:DAYLIGHT
TZOFFSETFROM:-0400
TZOFFSETTO:-0300
TZNAME:ADT
DTSTART:20220313T060000
END:DAYLIGHT
BEGIN:STANDARD
TZOFFSETFROM:-0300
TZOFFSETTO:-0400
TZNAME:AST
DTSTART:20221106T050000
END:STANDARD
BEGIN:DAYLIGHT
TZOFFSETFROM:-0400
TZOFFSETTO:-0300
TZNAME:ADT
DTSTART:20230312T060000
END:DAYLIGHT
BEGIN:STANDARD
TZOFFSETFROM:-0300
TZOFFSETTO:-0400
TZNAME:AST
DTSTART:20231105T050000
END:STANDARD
END:VTIMEZONE
BEGIN:VEVENT
DTSTART;VALUE=DATE:20220911
DTEND;VALUE=DATE:20220915
DTSTAMP:20260421T131950
CREATED:20230131T222320Z
LAST-MODIFIED:20250607T064324Z
UID:6950-1662854400-1663199999@ttsenergyservices.com
SUMMARY:GPA Midstream 2022
DESCRIPTION:2022 GPA Midstream Convention | September 11-14\, 2022\nCome visit Merichem® and talk to one of our experts at the GPA Midstream Convention in San Antonio\, Texas. Merichem will be an exhibitor on September 11th at the Marriott Rivercenter in Booth #9. \nMerichem will also be hosting the “Dueling Pianos” hospitality event at the Marriot Rivercenter\, Hospitality Suite: Conference Rooms 20-21\, on September 13th from 7 PM to 12 AM. \nGENERAL INFORMATION:\nEVENT: GPA Midstream 2022 Convention\nDATE: September 11-14\, 2022\nLOCATION: San Antonio\, Texas
URL:https://ttsenergyservices.com/event/gpa-midstream-2022/
LOCATION:San Antonio\, 6948 Fairgrounds Parkway\, an Antonio\, TX\, 78238\, United States
CATEGORIES:TTS Midstream Event
END:VEVENT
END:VCALENDAR