BEGIN:VCALENDAR
VERSION:2.0
PRODID:-//TTS Energy Services - ECPv6.15.20//NONSGML v1.0//EN
CALSCALE:GREGORIAN
METHOD:PUBLISH
X-ORIGINAL-URL:https://ttsenergyservices.com
X-WR-CALDESC:Events for TTS Energy Services
REFRESH-INTERVAL;VALUE=DURATION:PT1H
X-Robots-Tag:noindex
X-PUBLISHED-TTL:PT1H
BEGIN:VTIMEZONE
TZID:America/Halifax
BEGIN:DAYLIGHT
TZOFFSETFROM:-0400
TZOFFSETTO:-0300
TZNAME:ADT
DTSTART:20220313T060000
END:DAYLIGHT
BEGIN:STANDARD
TZOFFSETFROM:-0300
TZOFFSETTO:-0400
TZNAME:AST
DTSTART:20221106T050000
END:STANDARD
BEGIN:DAYLIGHT
TZOFFSETFROM:-0400
TZOFFSETTO:-0300
TZNAME:ADT
DTSTART:20230312T060000
END:DAYLIGHT
BEGIN:STANDARD
TZOFFSETFROM:-0300
TZOFFSETTO:-0400
TZNAME:AST
DTSTART:20231105T050000
END:STANDARD
BEGIN:DAYLIGHT
TZOFFSETFROM:-0400
TZOFFSETTO:-0300
TZNAME:ADT
DTSTART:20240310T060000
END:DAYLIGHT
BEGIN:STANDARD
TZOFFSETFROM:-0300
TZOFFSETTO:-0400
TZNAME:AST
DTSTART:20241103T050000
END:STANDARD
END:VTIMEZONE
BEGIN:VEVENT
DTSTART;TZID=America/Halifax:20230126T080000
DTEND;TZID=America/Halifax:20230126T170000
DTSTAMP:20260421T050233
CREATED:20230131T223612Z
LAST-MODIFIED:20230203T222955Z
UID:6977-1674720000-1674752400@ttsenergyservices.com
SUMMARY:FEPA Meet The Vendors
DESCRIPTION:Meet the Vendors is an opportunity to comprise a 10-minute presentation in front of the decision-makers from the Board companies. \nPresentation Location:\nBurns & McDonnell\n2301 Maitland Center Parkway\nMaitland\, FL 32751 \nHotel Information:\nSheraton Orlando North Hotel\n600 North Lake Destiny Rd.\nMaitland\, FL 32751
URL:https://ttsenergyservices.com/event/fepa-meet-the-vendors/
LOCATION:Burns & McDonnell\, 2301 Maitland Center Parkway\, Maitland\, FL\, 32751\, United States
CATEGORIES:TTS Midstream Event
END:VEVENT
END:VCALENDAR